BEGIN:VCALENDAR
VERSION:2.0
PRODID:-//Eventin//Event Calendar//EN
CALSCALE:GREGORIAN
METHOD:PUBLISH
BEGIN:VEVENT
UID:82abef91ec7fb7c08014a46c53e60021@jewishminneapolis.org
SUMMARY:Yom Ha’atzmaut Adult Night
DESCRIPTION:Get ready for a night of laughs and good vibes. Enjoy Stand-up 
 comedian Joel Chasnoff\, a DJ just for adults with music and games\, drinks
 \, light snacks\, and plenty of ways to celebrate Israel with your 21+ frie
 nds!\nRegistration 
LOCATION:St. Louis Park
DTSTAMP:20260420T084632Z
DTSTART:20260427T000000Z
DTEND:20260427T030000Z
END:VEVENT
END:VCALENDAR
