BEGIN:VCALENDAR
VERSION:2.0
PRODID:-//Eventin//Event Calendar//EN
CALSCALE:GREGORIAN
METHOD:PUBLISH
BEGIN:VEVENT
UID:610e6bdb5d7d53a4b97b4aa804ff3c76@jewishminneapolis.org
SUMMARY:Global Experience: Family Adventure in Israel
DESCRIPTION:Join us for an unforgettable 10-day family adventure in Israel!
  Experience sunrise at Masada\, float in the Dead Sea\, explore Jerusalem
 ’s Old City\, savor local flavors\, meet communities across the country\,
  and welcome the New Year together.\nGeared for families with elementary-ag
 e children and older.\nRegistration
LOCATION:Israel
DTSTAMP:20260422T101754Z
DTSTART:20261223T060000Z
DTEND:20270102T060000Z
END:VEVENT
END:VCALENDAR
