BEGIN:VCALENDAR
VERSION:2.0
PRODID:-//Eventin//Event Calendar//EN
CALSCALE:GREGORIAN
METHOD:PUBLISH
BEGIN:VEVENT
UID:c4ddd9a98b294d3fa3bbf9e65e00b37e@jewishminneapolis.org
SUMMARY:Global Experience: India: Saffron\, Spices & Sacred Stories
DESCRIPTION:Discover India’s extraordinary blend of culture\, spiritualit
 y\, and Jewish heritage on this inspirational journey through Mumbai\, Coch
 in\, Jaipur\, Agra\, and Delhi. With the insight and presence of Rabbi Alex
 ander Davis\, the journey will be enriched with moments of Jewish learning\
 , reflection\, and spiritual connection\, inviting participants to find dee
 per meaning in the people\, places\, and traditions they encounter along th
 e way. Visit centuries-old synagogues and restored Jewish sites in Kerala\,
  celebrate Shabbat with the local community in Mumbai\, and learn about mea
 ningful grassroots projects supported by GPM. Along the way\, take in India
 ’s vibrant markets\, rich artistic traditions\, and magnificent architect
 ural treasures—including Jaipur’s Amber Fort\, Agra’s breathtaking Ta
 j Mahal\, and Delhi’s Mughal masterpieces. With expert guidance\, memorab
 le local encounters\, and thoughtfully curated experiences\, this program o
 ffers a rare opportunity to connect with India’s past and present through
  a uniquely Jewish lens. We will visit sites supported by JDC\, the Minneap
 olis Jewish Federation supports the work of JDC in India and worldwide. (JD
 C is the leading global Jewish humanitarian organization.)
LOCATION:India
DTSTAMP:20260422T084557Z
DTSTART:20271121T060000Z
DTEND:20271121T060000Z
END:VEVENT
END:VCALENDAR
